BEGIN:VCALENDAR
VERSION:2.0
PRODID:-//Association St-Sulpice Ensemble (ASSE) - ECPv6.15.20//NONSGML v1.0//EN
CALSCALE:GREGORIAN
METHOD:PUBLISH
X-ORIGINAL-URL:https://st-sulpiceensemble.ch
X-WR-CALDESC:Évènements pour Association St-Sulpice Ensemble (ASSE)
REFRESH-INTERVAL;VALUE=DURATION:PT1H
X-Robots-Tag:noindex
X-PUBLISHED-TTL:PT1H
BEGIN:VTIMEZONE
TZID:Europe/Zurich
BEGIN:DAYLIGHT
TZOFFSETFROM:+0100
TZOFFSETTO:+0200
TZNAME:CEST
DTSTART:20150329T010000
END:DAYLIGHT
BEGIN:STANDARD
TZOFFSETFROM:+0200
TZOFFSETTO:+0100
TZNAME:CET
DTSTART:20151025T010000
END:STANDARD
BEGIN:DAYLIGHT
TZOFFSETFROM:+0100
TZOFFSETTO:+0200
TZNAME:CEST
DTSTART:20160327T010000
END:DAYLIGHT
BEGIN:STANDARD
TZOFFSETFROM:+0200
TZOFFSETTO:+0100
TZNAME:CET
DTSTART:20161030T010000
END:STANDARD
BEGIN:DAYLIGHT
TZOFFSETFROM:+0100
TZOFFSETTO:+0200
TZNAME:CEST
DTSTART:20170326T010000
END:DAYLIGHT
BEGIN:STANDARD
TZOFFSETFROM:+0200
TZOFFSETTO:+0100
TZNAME:CET
DTSTART:20171029T010000
END:STANDARD
END:VTIMEZONE
BEGIN:VEVENT
DTSTART;TZID=Europe/Zurich:20160305T080000
DTEND;TZID=Europe/Zurich:20160305T120000
DTSTAMP:20260420T053333
CREATED:20160303T151515Z
LAST-MODIFIED:20160304T120646Z
UID:2490-1457164800-1457179200@st-sulpiceensemble.ch
SUMMARY:Rencontrez notre candidate
DESCRIPTION:Notre candidate : \nOlivia Michel
URL:https://st-sulpiceensemble.ch/calendrier/rencontrez-notre-candidate/
LOCATION:Déchèterie\, Rue du Centre 138\, St-Sulpice\, 1025\, Suisse
END:VEVENT
BEGIN:VEVENT
DTSTART;TZID=Europe/Zurich:20160310T200000
DTEND;TZID=Europe/Zurich:20160310T210000
DTSTAMP:20260420T053333
CREATED:20160304T105250Z
LAST-MODIFIED:20160304T120728Z
UID:2561-1457640000-1457643600@st-sulpiceensemble.ch
SUMMARY:Débat entre les 2 candidats au 2ème tour de la Municipalité
DESCRIPTION:Notre candidate : \nOlivia Michel
URL:https://st-sulpiceensemble.ch/calendrier/debat-entre-les-2-candidats-au-2eme-tour-de-la-municipalite/
LOCATION:Salle du Conseil communal (1er étage)\, Rue du Centre 59\, St-Sulpice\, 1025\, Suisse
END:VEVENT
BEGIN:VEVENT
DTSTART;TZID=Europe/Zurich:20160312T080000
DTEND;TZID=Europe/Zurich:20160312T120000
DTSTAMP:20260420T053333
CREATED:20160303T151532Z
LAST-MODIFIED:20160304T120832Z
UID:2491-1457769600-1457784000@st-sulpiceensemble.ch
SUMMARY:Rencontrez notre candidate
DESCRIPTION:Notre candidate : \nOlivia Michel
URL:https://st-sulpiceensemble.ch/calendrier/rencontrez-notre-candidate-2/
LOCATION:Déchèterie\, Rue du Centre 138\, St-Sulpice\, 1025\, Suisse
END:VEVENT
BEGIN:VEVENT
DTSTART;TZID=Europe/Zurich:20160319T080000
DTEND;TZID=Europe/Zurich:20160319T120000
DTSTAMP:20260420T053333
CREATED:20160303T151558Z
LAST-MODIFIED:20160304T120854Z
UID:2492-1458374400-1458388800@st-sulpiceensemble.ch
SUMMARY:Rencontrez notre candidate
DESCRIPTION:Notre candidate : \nOlivia Michel
URL:https://st-sulpiceensemble.ch/calendrier/rencontrez-notre-candidate-3/
LOCATION:Déchèterie\, Rue du Centre 138\, St-Sulpice\, 1025\, Suisse
END:VEVENT
BEGIN:VEVENT
DTSTART;VALUE=DATE:20160320
DTEND;VALUE=DATE:20160321
DTSTAMP:20260420T053333
CREATED:20160229T084214Z
LAST-MODIFIED:20260314T143429Z
UID:2405-1458432000-1458518399@st-sulpiceensemble.ch
SUMMARY:Deuxième tour des élections à la Municipalité
DESCRIPTION:Notre candidate : \nOlivia Michel
URL:https://st-sulpiceensemble.ch/calendrier/deuxieme-tour-des-elections-a-la-municipalite/
END:VEVENT
END:VCALENDAR