BEGIN:VCALENDAR
VERSION:2.0
PRODID:-//Association St-Sulpice Ensemble (ASSE) - ECPv6.15.20//NONSGML v1.0//EN
CALSCALE:GREGORIAN
METHOD:PUBLISH
X-ORIGINAL-URL:https://st-sulpiceensemble.ch
X-WR-CALDESC:Évènements pour Association St-Sulpice Ensemble (ASSE)
REFRESH-INTERVAL;VALUE=DURATION:PT1H
X-Robots-Tag:noindex
X-PUBLISHED-TTL:PT1H
BEGIN:VTIMEZONE
TZID:Europe/Zurich
BEGIN:DAYLIGHT
TZOFFSETFROM:+0100
TZOFFSETTO:+0200
TZNAME:CEST
DTSTART:20150329T010000
END:DAYLIGHT
BEGIN:STANDARD
TZOFFSETFROM:+0200
TZOFFSETTO:+0100
TZNAME:CET
DTSTART:20151025T010000
END:STANDARD
BEGIN:DAYLIGHT
TZOFFSETFROM:+0100
TZOFFSETTO:+0200
TZNAME:CEST
DTSTART:20160327T010000
END:DAYLIGHT
BEGIN:STANDARD
TZOFFSETFROM:+0200
TZOFFSETTO:+0100
TZNAME:CET
DTSTART:20161030T010000
END:STANDARD
BEGIN:DAYLIGHT
TZOFFSETFROM:+0100
TZOFFSETTO:+0200
TZNAME:CEST
DTSTART:20170326T010000
END:DAYLIGHT
BEGIN:STANDARD
TZOFFSETFROM:+0200
TZOFFSETTO:+0100
TZNAME:CET
DTSTART:20171029T010000
END:STANDARD
END:VTIMEZONE
BEGIN:VEVENT
DTSTART;TZID=Europe/Zurich:20160204T190000
DTEND;TZID=Europe/Zurich:20160204T200000
DTSTAMP:20260420T053514
CREATED:20160130T121143Z
LAST-MODIFIED:20160303T154606Z
UID:1976-1454612400-1454616000@st-sulpiceensemble.ch
SUMMARY:Rencontrez nos candidats à la Municipalité
DESCRIPTION:Nos candidats à la Municipalité se réjouissent de vous rencontrer.\n\nAlain Clerc\, syndic\nAnne Merminod\, municipale\nJean-Pierre Jaton\, municipal\nPierre-Yves Brandt\, président du Conseil communal \n\n			\n				\n			\n				\n				Alain Clerc\n				\n			\n				\n			\n				\n				Anne Merminod\n				\n			\n				\n			\n				\n				Jean-Pierre Jaton\n				\n			\n				\n			\n				\n				Pierre-Yves Brandt
URL:https://st-sulpiceensemble.ch/calendrier/rencontrez-nos-candidats-a-la-municipalite/
LOCATION:Espace 52\, Rue du Centre 52\, St-Sulpice\, 1025\, Suisse
END:VEVENT
BEGIN:VEVENT
DTSTART;TZID=Europe/Zurich:20160206T080000
DTEND;TZID=Europe/Zurich:20160206T120000
DTSTAMP:20260420T053514
CREATED:20160121T201507Z
LAST-MODIFIED:20160206T133923Z
UID:1477-1454745600-1454760000@st-sulpiceensemble.ch
SUMMARY:Nos candidats vous accueillent à la déchèterie
DESCRIPTION:Vous accueilleront : Carmen Fankhauser\, Nicolas Weber\, Benito Quintas\, Jean-Louis Moser\, Ghislaine Devaud \n\n			\n				\n			\n				\n				Carmen Fankhauser\n				\n			\n				\n			\n				\n				Nicolas Weber\n				\n			\n				\n			\n				\n				Benito Quintas\n				\n			\n				\n			\n				\n				Jean-Louis Moser\n				\n			\n				\n			\n				\n				Ghislaine Devaud
URL:https://st-sulpiceensemble.ch/calendrier/nos-candidats-vous-accueillent-a-la-decheterie-3/
LOCATION:Déchèterie\, Rue du Centre 138\, St-Sulpice\, 1025\, Suisse
END:VEVENT
BEGIN:VEVENT
DTSTART;TZID=Europe/Zurich:20160206T080000
DTEND;TZID=Europe/Zurich:20160206T120000
DTSTAMP:20260420T053514
CREATED:20160121T201756Z
LAST-MODIFIED:20160206T133929Z
UID:1482-1454745600-1454760000@st-sulpiceensemble.ch
SUMMARY:Retrouvez nos candidats au centre du village
DESCRIPTION:Vous accueilleront : Stefano Spaccapietra\, Christine Parent\, Jacques Equey\, Carlos Rodriguez\, Laurence Aufrère \n\n			\n				\n			\n				\n				Stefano Spaccapietra\n				\n			\n				\n			\n				\n				Christine Parent\n				\n			\n				\n			\n				\n				Jacques Equey\n				\n			\n				\n			\n				\n				Carlos Rodriguez
URL:https://st-sulpiceensemble.ch/calendrier/retrouvez-nos-candidats-au-centre-du-village-2/
LOCATION:Epicerie\, Rue du Centre 54\, St-Sulpice\, 1025\, Suisse
END:VEVENT
BEGIN:VEVENT
DTSTART;TZID=Europe/Zurich:20160208T183000
DTEND;TZID=Europe/Zurich:20160208T200000
DTSTAMP:20260420T053514
CREATED:20160205T091332Z
LAST-MODIFIED:20160206T133947Z
UID:2046-1454956200-1454961600@st-sulpiceensemble.ch
SUMMARY:Rencontre au quartier de Vallaire
DESCRIPTION:Venez retrouver nos candidats du quartier de Vallaire. \nBenito Quintas et Iago Vazquez Fernandez\, candidats au Conseil communal\, vous accueilleront ce lundi à la route de Vallaire 5b pour discuter avec vous du village : de ce que vous souhaitez défendre et de ce que vous aimeriez changer à St-Sulpice. \nC’est le moment d’en parler ! \n\n			\n				\n			\n				\n				Benito Quintas\n				\n			\n				\n			\n				\n				Iago Vazquez Fernandez
URL:https://st-sulpiceensemble.ch/calendrier/rencontre-au-quartier-de-vallaire/
LOCATION:Vallaire 5b\, Route de Vallaire 5b\, St-Sulpice\, 1025\, Suisse
END:VEVENT
BEGIN:VEVENT
DTSTART;TZID=Europe/Zurich:20160209T190000
DTEND;TZID=Europe/Zurich:20160209T200000
DTSTAMP:20260420T053514
CREATED:20160130T121045Z
LAST-MODIFIED:20160303T154521Z
UID:1975-1455044400-1455048000@st-sulpiceensemble.ch
SUMMARY:Rencontrez nos candidats à la Municipalité
DESCRIPTION:Nos candidats à la Municipalité se réjouissent de vous rencontrer.\n\nAlain Clerc\, syndic\nAnne Merminod\, municipale\nJean-Pierre Jaton\, municipal\nPierre-Yves Brandt\, président du Conseil communal \n\n			\n				\n			\n				\n				Alain Clerc (syndic)\n				\n			\n				\n			\n				\n				Anne Merminod\n				\n			\n				\n			\n				\n				Jean-Pierre Jaton\n				\n			\n				\n			\n				\n				Pierre-Yves Brandt
URL:https://st-sulpiceensemble.ch/calendrier/rencontrez-nos-candidats-a-la-municipalite-2/
LOCATION:Espace 52\, Rue du Centre 52\, St-Sulpice\, 1025\, Suisse
END:VEVENT
BEGIN:VEVENT
DTSTART;TZID=Europe/Zurich:20160211T143000
DTEND;TZID=Europe/Zurich:20160211T160000
DTSTAMP:20260420T053514
CREATED:20160205T092525Z
LAST-MODIFIED:20160213T170851Z
UID:2048-1455201000-1455206400@st-sulpiceensemble.ch
SUMMARY:Café discussion à l'Auberge communale
DESCRIPTION:Stefano Spaccapietra s’est signalé ces dernières années au Conseil communal par son esprit critique et sa volonté de faire “bouger les choses”. Si vous souhaitez discuter avec lui de St-Sulpice\, il vous accueillera deux après-midi autour d’un café. \n\n			\n				\n			\n				\n				Stefano Spaccapietra
URL:https://st-sulpiceensemble.ch/calendrier/cafe-discussion-a-lauberge-communale/
LOCATION:Auberge communale\, Rue du Centre 59\, St-Sulpice\, 1025\, Suisse
END:VEVENT
BEGIN:VEVENT
DTSTART;TZID=Europe/Zurich:20160213T080000
DTEND;TZID=Europe/Zurich:20160213T120000
DTSTAMP:20260420T053514
CREATED:20160121T201529Z
LAST-MODIFIED:20160206T134022Z
UID:1478-1455350400-1455364800@st-sulpiceensemble.ch
SUMMARY:Nos candidats vous accueillent à la déchèterie
DESCRIPTION:Vous accueilleront : Claude Probst\, Pierre del Boca\, Carlos Rodriguez\, David-André Knüsel \n\n			\n				\n			\n				\n				Claude Probst\n				\n			\n				\n			\n				\n				Pierre del Boca\n				\n			\n				\n			\n				\n				Carlos Rodriguez
URL:https://st-sulpiceensemble.ch/calendrier/nos-candidats-vous-accueillent-a-la-decheterie-4/
LOCATION:Déchèterie\, Rue du Centre 138\, St-Sulpice\, 1025\, Suisse
END:VEVENT
BEGIN:VEVENT
DTSTART;TZID=Europe/Zurich:20160213T080000
DTEND;TZID=Europe/Zurich:20160213T120000
DTSTAMP:20260420T053514
CREATED:20160121T201819Z
LAST-MODIFIED:20160206T134030Z
UID:1483-1455350400-1455364800@st-sulpiceensemble.ch
SUMMARY:Retrouvez nos candidats au centre du village
DESCRIPTION:Vous accueilleront : Nicolas Weber\, Helena Jindra-Froehlich\, Olivia Michel\, Annamaria Leonardi \n\n			\n				\n			\n				\n				Nicolas Weber\n				\n			\n				\n			\n				\n				Olivia Henry\n				\n			\n				\n			\n				\n				Annamaria Leonardi
URL:https://st-sulpiceensemble.ch/calendrier/retrouvez-nos-candidats-au-centre-du-village-3/
LOCATION:Epicerie\, Rue du Centre 54\, St-Sulpice\, 1025\, Suisse
END:VEVENT
BEGIN:VEVENT
DTSTART;TZID=Europe/Zurich:20160213T100000
DTEND;TZID=Europe/Zurich:20160213T130000
DTSTAMP:20260420T053514
CREATED:20160121T202130Z
LAST-MODIFIED:20160206T134037Z
UID:1486-1455357600-1455368400@st-sulpiceensemble.ch
SUMMARY:St-Sulpice Ensemble vous invite à rencontrer ses candidats à Champagny
DESCRIPTION:Vous accueilleront : Roxane Berner\, Christiane Michel\, Christophe Wyss\, Robert Plass \n\n			\n				\n			\n				\n				Roxane Berner\n				\n			\n				\n			\n				\n				Christiane Michel\n				\n			\n				\n			\n				\n				Christophe Wyss\n				\n			\n				\n			\n				\n				Robert Plass
URL:https://st-sulpiceensemble.ch/calendrier/st-sulpice-ensemble-vous-invite-a-rencontrer-ses-candidats-a-champagny/
LOCATION:Quartier de Champagny\, Rue du Centre 168\, St-Sulpice\, 1025\, Suisse
END:VEVENT
BEGIN:VEVENT
DTSTART;TZID=Europe/Zurich:20160215T143000
DTEND;TZID=Europe/Zurich:20160215T160000
DTSTAMP:20260420T053514
CREATED:20160205T094529Z
LAST-MODIFIED:20160213T170819Z
UID:2051-1455546600-1455552000@st-sulpiceensemble.ch
SUMMARY:Café discussion à l'Auberge communale
DESCRIPTION:Stefano Spaccapietra s’est signalé ces dernières années au Conseil communal par son esprit critique et sa volonté de faire “bouger les choses”. Si vous souhaitez discuter avec lui de St-Sulpice\, il vous accueillera deux après-midi autour d’un café. \n\n			\n				\n			\n				\n				Stefano Spaccapietra
URL:https://st-sulpiceensemble.ch/calendrier/cafe-discussion-a-lauberge-communale-2/
LOCATION:Auberge communale\, Rue du Centre 59\, St-Sulpice\, 1025\, Suisse
END:VEVENT
BEGIN:VEVENT
DTSTART;TZID=Europe/Zurich:20160217T190000
DTEND;TZID=Europe/Zurich:20160217T200000
DTSTAMP:20260420T053514
CREATED:20160202T171820Z
LAST-MODIFIED:20160216T114914Z
UID:1991-1455735600-1455739200@st-sulpiceensemble.ch
SUMMARY:St-Sulpice Ensemble vous invite à rencontrer ses candidats aux Pierrettes
DESCRIPTION:Vous accueilleront : Alain Clerc\, Alice Kaeser-Moser\, Hans-Jörg Hirsch\, Laurent Clerc \n\n			\n				\n			\n				\n				Alain Clerc (syndic)\n				\n			\n				\n			\n				\n				Alice Kaeser-Moser\n				\n			\n				\n			\n				\n				Hans-Jörg Hirsch\n				\n			\n				\n			\n				\n				Laurent Clerc
URL:https://st-sulpiceensemble.ch/calendrier/st-sulpice-ensemble-vous-invite-a-rencontrer-ses-candidats-aux-pierrettes/
LOCATION:Pierrettes 19\, Chemin des Pierrettes 19\, St-Sulpice\, 1025\, Suisse
END:VEVENT
BEGIN:VEVENT
DTSTART;TZID=Europe/Zurich:20160220T080000
DTEND;TZID=Europe/Zurich:20160220T120000
DTSTAMP:20260420T053514
CREATED:20160121T201552Z
LAST-MODIFIED:20160216T085956Z
UID:1479-1455955200-1455969600@st-sulpiceensemble.ch
SUMMARY:Nos candidats vous accueillent à la déchèterie
DESCRIPTION:Vous accueilleront : Stefano Spaccapietra\, Olivier Ruegg\, Christine Parent\, Laurent Mouvet \n  \n\n			\n				\n			\n				\n				Stefano Spaccapietra\n				\n			\n				\n			\n				\n				Olivier Ruegg\n				\n			\n				\n			\n				\n				Christine Parent\n				\n			\n				\n			\n				\n				Laurent Mouvet
URL:https://st-sulpiceensemble.ch/calendrier/nos-candidats-vous-accueillent-a-la-decheterie-5/
LOCATION:Déchèterie\, Rue du Centre 138\, St-Sulpice\, 1025\, Suisse
END:VEVENT
BEGIN:VEVENT
DTSTART;TZID=Europe/Zurich:20160220T090000
DTEND;TZID=Europe/Zurich:20160220T120000
DTSTAMP:20260420T053514
CREATED:20160121T201842Z
LAST-MODIFIED:20160220T013559Z
UID:1484-1455958800-1455969600@st-sulpiceensemble.ch
SUMMARY:Retrouvez nos candidats au centre du village
DESCRIPTION:Vous accueilleront : Claude Probst\, Roxane Berner \n\n			\n				\n			\n				\n				Claude Probst\n				\n			\n				\n			\n				\n				Roxane Berner
URL:https://st-sulpiceensemble.ch/calendrier/retrouvez-nos-candidats-au-centre-du-village-4/
LOCATION:Epicerie\, Rue du Centre 54\, St-Sulpice\, 1025\, Suisse
END:VEVENT
BEGIN:VEVENT
DTSTART;TZID=Europe/Zurich:20160227T080000
DTEND;TZID=Europe/Zurich:20160227T120000
DTSTAMP:20260420T053514
CREATED:20160121T201613Z
LAST-MODIFIED:20160216T090418Z
UID:1480-1456560000-1456574400@st-sulpiceensemble.ch
SUMMARY:Nos candidats vous accueillent à la déchèterie
DESCRIPTION:Vous accueilleront : Olivier Chappuis\, Olivier Ruegg\, Jacques Equey\, Annamaria Leonardi \n\n			\n				\n			\n				\n				Olivier Chappuis\n				\n			\n				\n			\n				\n				Olivier Ruegg\n				\n			\n				\n			\n				\n				Jacques Equey\n				\n			\n				\n			\n				\n				Annamaria Leonardi
URL:https://st-sulpiceensemble.ch/calendrier/nos-candidats-vous-accueillent-a-la-decheterie-6/
LOCATION:Déchèterie\, Rue du Centre 138\, St-Sulpice\, 1025\, Suisse
END:VEVENT
BEGIN:VEVENT
DTSTART;TZID=Europe/Zurich:20160227T090000
DTEND;TZID=Europe/Zurich:20160227T120000
DTSTAMP:20260420T053514
CREATED:20160121T201859Z
LAST-MODIFIED:20160219T183253Z
UID:1485-1456563600-1456574400@st-sulpiceensemble.ch
SUMMARY:Retrouvez nos candidats au centre du village
DESCRIPTION:Vous accueilleront : Nathalie Dubuis\, Olivia Michel\, Christiane Michel\, Iago Vazquez Fernandez \n\n			\n				\n			\n				\n				Nathalie Dubuis\n				\n			\n				\n			\n				\n				Olivia Henry\n				\n			\n				\n			\n				\n				Christiane Michel\n				\n			\n				\n			\n				\n				Iago Vazquez Fernandez
URL:https://st-sulpiceensemble.ch/calendrier/retrouvez-nos-candidats-au-centre-du-village-5/
LOCATION:Epicerie\, Rue du Centre 54\, St-Sulpice\, 1025\, Suisse
END:VEVENT
BEGIN:VEVENT
DTSTART;VALUE=DATE:20160228
DTEND;VALUE=DATE:20160229
DTSTAMP:20260420T053514
CREATED:20160117T065932Z
LAST-MODIFIED:20160206T134230Z
UID:1040-1456617600-1456703999@st-sulpiceensemble.ch
SUMMARY:Premier tour des élections à la Municipalité et élections au Conseil communal
DESCRIPTION:
URL:https://st-sulpiceensemble.ch/calendrier/premier-tour-des-elections-a-la-municipalite-et-elections-au-conseil-communal/
END:VEVENT
END:VCALENDAR