BEGIN:VCALENDAR
VERSION:2.0
PRODID:-//Association St-Sulpice Ensemble (ASSE) - ECPv6.15.20//NONSGML v1.0//EN
CALSCALE:GREGORIAN
METHOD:PUBLISH
X-ORIGINAL-URL:https://st-sulpiceensemble.ch
X-WR-CALDESC:Évènements pour Association St-Sulpice Ensemble (ASSE)
REFRESH-INTERVAL;VALUE=DURATION:PT1H
X-Robots-Tag:noindex
X-PUBLISHED-TTL:PT1H
BEGIN:VTIMEZONE
TZID:Europe/Zurich
BEGIN:DAYLIGHT
TZOFFSETFROM:+0100
TZOFFSETTO:+0200
TZNAME:CEST
DTSTART:20150329T010000
END:DAYLIGHT
BEGIN:STANDARD
TZOFFSETFROM:+0200
TZOFFSETTO:+0100
TZNAME:CET
DTSTART:20151025T010000
END:STANDARD
BEGIN:DAYLIGHT
TZOFFSETFROM:+0100
TZOFFSETTO:+0200
TZNAME:CEST
DTSTART:20160327T010000
END:DAYLIGHT
BEGIN:STANDARD
TZOFFSETFROM:+0200
TZOFFSETTO:+0100
TZNAME:CET
DTSTART:20161030T010000
END:STANDARD
BEGIN:DAYLIGHT
TZOFFSETFROM:+0100
TZOFFSETTO:+0200
TZNAME:CEST
DTSTART:20170326T010000
END:DAYLIGHT
BEGIN:STANDARD
TZOFFSETFROM:+0200
TZOFFSETTO:+0100
TZNAME:CET
DTSTART:20171029T010000
END:STANDARD
END:VTIMEZONE
BEGIN:VEVENT
DTSTART;TZID=Europe/Zurich:20160107T000000
DTEND;TZID=Europe/Zurich:20160107T000000
DTSTAMP:20260420T072652
CREATED:20170919T102044Z
LAST-MODIFIED:20170919T102044Z
UID:3743-1452124800-1452124800@st-sulpiceensemble.ch
SUMMARY:Dernier délai pour s'inscrire sur les listes de l'ASSE
DESCRIPTION:Dernier délai pour s’inscrire (la date indiquée est celle de la réception des candidatures).
URL:https://st-sulpiceensemble.ch/calendrier/dernier-delai-pour-sinscrire-sur-les-listes-de-lasse/
END:VEVENT
BEGIN:VEVENT
DTSTART;TZID=Europe/Zurich:20160111T080000
DTEND;TZID=Europe/Zurich:20160111T120000
DTSTAMP:20260420T072652
CREATED:20170919T100451Z
LAST-MODIFIED:20170919T101348Z
UID:3740-1452499200-1452513600@st-sulpiceensemble.ch
SUMMARY:Dépôt des listes
DESCRIPTION:Dépôt des listes des candidats de St-Sulpice Ensemble à la Municipalité et au Conseil communal.
URL:https://st-sulpiceensemble.ch/calendrier/depot-des-listes/
LOCATION:Maison de commune\, Rue du Centre 47\, St-Sulpice\, 1025\, Suisse
END:VEVENT
BEGIN:VEVENT
DTSTART;TZID=Europe/Zurich:20160113T200000
DTEND;TZID=Europe/Zurich:20160113T230000
DTSTAMP:20260420T072652
CREATED:20170919T100323Z
LAST-MODIFIED:20170919T100335Z
UID:3737-1452715200-1452726000@st-sulpiceensemble.ch
SUMMARY:Organisation de la campagne électorale
DESCRIPTION:Tous les membres de l’ASSE ont été conviés à l’hôtel Starling\, route Cantonale 31\, à St-Sulpice\, pour organiser la campagne électorale au Conseil communal.
URL:https://st-sulpiceensemble.ch/calendrier/organisation-de-la-campagne-electorale/
LOCATION:Starling Hotel\, Route Cantonale 31\, St-Sulpice\, 1025\, Suisse
END:VEVENT
BEGIN:VEVENT
DTSTART;VALUE=DATE:20160118
DTEND;VALUE=DATE:20160119
DTSTAMP:20260420T072652
CREATED:20160116T172245Z
LAST-MODIFIED:20160118T203852Z
UID:1032-1453075200-1453161599@st-sulpiceensemble.ch
SUMMARY:Lancement de la campagne électorale
DESCRIPTION:La campagne électorale démarre pour nous le 18 janvier.
URL:https://st-sulpiceensemble.ch/calendrier/lancement-de-la-campagne-electorale/
END:VEVENT
BEGIN:VEVENT
DTSTART;TZID=Europe/Zurich:20160123T080000
DTEND;TZID=Europe/Zurich:20160123T120000
DTSTAMP:20260420T072652
CREATED:20160121T195851Z
LAST-MODIFIED:20160206T133842Z
UID:1475-1453536000-1453550400@st-sulpiceensemble.ch
SUMMARY:Nos candidats vous accueillent à la déchèterie
DESCRIPTION:Vous accueilleront : Hans-Jörg Hirsch\, Yves Dijamatovic\, Stephen Richards \n\n			\n				\n			\n				\n				Hans-Jörg Hirsch\n				\n			\n				\n			\n				\n				Yves Dijamatovic\n				\n			\n				\n			\n				\n				Stephen Richards
URL:https://st-sulpiceensemble.ch/calendrier/nos-candidats-vous-accueillent-a-la-decheterie/
LOCATION:Déchèterie\, Rue du Centre 138\, St-Sulpice\, 1025\, Suisse
END:VEVENT
BEGIN:VEVENT
DTSTART;TZID=Europe/Zurich:20160130T080000
DTEND;TZID=Europe/Zurich:20160130T120000
DTSTAMP:20260420T072652
CREATED:20160121T201348Z
LAST-MODIFIED:20160206T133849Z
UID:1476-1454140800-1454155200@st-sulpiceensemble.ch
SUMMARY:Nos candidats vous accueillent à la déchèterie
DESCRIPTION:Vous accueilleront : Alice Kaeser-Moser\, Jean-Louis Moser\, Pierre del Boca\, Olivia Michel\, Christiane Michel \n\n			\n				\n			\n				\n				Alice Kaeser-Moser\n				\n			\n				\n			\n				\n				Jean-Louis Moser\n				\n			\n				\n			\n				\n				Pierre del Boca\n				\n			\n				\n			\n				\n				Olivia Henry\n				\n			\n				\n			\n				\n				Christiane Michel
URL:https://st-sulpiceensemble.ch/calendrier/nos-candidats-vous-accueillent-a-la-decheterie-2/
LOCATION:Déchèterie\, Rue du Centre 138\, St-Sulpice\, 1025\, Suisse
END:VEVENT
BEGIN:VEVENT
DTSTART;TZID=Europe/Zurich:20160130T080000
DTEND;TZID=Europe/Zurich:20160130T120000
DTSTAMP:20260420T072652
CREATED:20160121T201737Z
LAST-MODIFIED:20160206T133904Z
UID:1481-1454140800-1454155200@st-sulpiceensemble.ch
SUMMARY:Retrouvez nos candidats au centre du village
DESCRIPTION:Vous accueilleront : Olivier Chappuis\, Laurent Mouvet\, Helena Jindra-Froehlich\, Laurent Clerc\, Laurence Aufrère \n  \n\n			\n				\n			\n				\n				Olivier Chappuis\n				\n			\n				\n			\n				\n				Laurent Mouvet\n				\n			\n				\n			\n				\n				Laurent Clerc
URL:https://st-sulpiceensemble.ch/calendrier/retrouvez-nos-candidats-au-centre-du-village/
LOCATION:Epicerie\, Rue du Centre 54\, St-Sulpice\, 1025\, Suisse
END:VEVENT
END:VCALENDAR