BEGIN:VCALENDAR
VERSION:2.0
PRODID:-//Association St-Sulpice Ensemble (ASSE) - ECPv6.15.20//NONSGML v1.0//EN
CALSCALE:GREGORIAN
METHOD:PUBLISH
X-ORIGINAL-URL:https://st-sulpiceensemble.ch
X-WR-CALDESC:Évènements pour Association St-Sulpice Ensemble (ASSE)
REFRESH-INTERVAL;VALUE=DURATION:PT1H
X-Robots-Tag:noindex
X-PUBLISHED-TTL:PT1H
BEGIN:VTIMEZONE
TZID:Europe/Zurich
BEGIN:DAYLIGHT
TZOFFSETFROM:+0100
TZOFFSETTO:+0200
TZNAME:CEST
DTSTART:20150329T010000
END:DAYLIGHT
BEGIN:STANDARD
TZOFFSETFROM:+0200
TZOFFSETTO:+0100
TZNAME:CET
DTSTART:20151025T010000
END:STANDARD
BEGIN:DAYLIGHT
TZOFFSETFROM:+0100
TZOFFSETTO:+0200
TZNAME:CEST
DTSTART:20160327T010000
END:DAYLIGHT
BEGIN:STANDARD
TZOFFSETFROM:+0200
TZOFFSETTO:+0100
TZNAME:CET
DTSTART:20161030T010000
END:STANDARD
BEGIN:DAYLIGHT
TZOFFSETFROM:+0100
TZOFFSETTO:+0200
TZNAME:CEST
DTSTART:20170326T010000
END:DAYLIGHT
BEGIN:STANDARD
TZOFFSETFROM:+0200
TZOFFSETTO:+0100
TZNAME:CET
DTSTART:20171029T010000
END:STANDARD
END:VTIMEZONE
BEGIN:VEVENT
DTSTART;TZID=Europe/Zurich:20160925T093000
DTEND;TZID=Europe/Zurich:20160925T180000
DTSTAMP:20260419T170459
CREATED:20160922T192516Z
LAST-MODIFIED:20161205T224029Z
UID:3239-1474795800-1474826400@st-sulpiceensemble.ch
SUMMARY:Cap sur l'Ouest
DESCRIPTION:Les membres de l’ASSE sont cordialement invités à participer à Cap sur l’Ouest en enfourchant leur bicyclette pour faire le tour du district. \nToutes sortes d’options existent. Un premier rendez-vous est fixé à 9h30 au parc des Pierrettes. Les gens qui veulent rejoindre le tour au cours de la journée peuvent le faire en appelant Nathalie. Un verre de l’amitié est enfin offert à 16h au parc des Pierrettes. \nBienvenue ! \n 
URL:https://st-sulpiceensemble.ch/calendrier/cap-sur-louest/
END:VEVENT
END:VCALENDAR