BEGIN:VCALENDAR
VERSION:2.0
PRODID:-//Association St-Sulpice Ensemble (ASSE) - ECPv6.15.20//NONSGML v1.0//EN
CALSCALE:GREGORIAN
METHOD:PUBLISH
X-WR-CALNAME:Association St-Sulpice Ensemble (ASSE)
X-ORIGINAL-URL:https://st-sulpiceensemble.ch
X-WR-CALDESC:Évènements pour Association St-Sulpice Ensemble (ASSE)
REFRESH-INTERVAL;VALUE=DURATION:PT1H
X-Robots-Tag:noindex
X-PUBLISHED-TTL:PT1H
BEGIN:VTIMEZONE
TZID:Europe/Zurich
BEGIN:DAYLIGHT
TZOFFSETFROM:+0100
TZOFFSETTO:+0200
TZNAME:CEST
DTSTART:20150329T010000
END:DAYLIGHT
BEGIN:STANDARD
TZOFFSETFROM:+0200
TZOFFSETTO:+0100
TZNAME:CET
DTSTART:20151025T010000
END:STANDARD
BEGIN:DAYLIGHT
TZOFFSETFROM:+0100
TZOFFSETTO:+0200
TZNAME:CEST
DTSTART:20160327T010000
END:DAYLIGHT
BEGIN:STANDARD
TZOFFSETFROM:+0200
TZOFFSETTO:+0100
TZNAME:CET
DTSTART:20161030T010000
END:STANDARD
BEGIN:DAYLIGHT
TZOFFSETFROM:+0100
TZOFFSETTO:+0200
TZNAME:CEST
DTSTART:20170326T010000
END:DAYLIGHT
BEGIN:STANDARD
TZOFFSETFROM:+0200
TZOFFSETTO:+0100
TZNAME:CET
DTSTART:20171029T010000
END:STANDARD
END:VTIMEZONE
BEGIN:VEVENT
DTSTART;TZID=Europe/Zurich:20160123T080000
DTEND;TZID=Europe/Zurich:20160123T120000
DTSTAMP:20260420T090357
CREATED:20160121T195851Z
LAST-MODIFIED:20160206T133842Z
UID:1475-1453536000-1453550400@st-sulpiceensemble.ch
SUMMARY:Nos candidats vous accueillent à la déchèterie
DESCRIPTION:Vous accueilleront : Hans-Jörg Hirsch\, Yves Dijamatovic\, Stephen Richards \n\n			\n				\n			\n				\n				Hans-Jörg Hirsch\n				\n			\n				\n			\n				\n				Yves Dijamatovic\n				\n			\n				\n			\n				\n				Stephen Richards
URL:https://st-sulpiceensemble.ch/calendrier/nos-candidats-vous-accueillent-a-la-decheterie/
LOCATION:Déchèterie\, Rue du Centre 138\, St-Sulpice\, 1025\, Suisse
END:VEVENT
END:VCALENDAR